BEGIN:VCALENDAR
VERSION:2.0
PRODID:-//Exceptional Connections - ECPv6.15.17.1//NONSGML v1.0//EN
CALSCALE:GREGORIAN
METHOD:PUBLISH
X-ORIGINAL-URL:https://exceptionalconnections.com
X-WR-CALDESC:Events for Exceptional Connections
REFRESH-INTERVAL;VALUE=DURATION:PT1H
X-Robots-Tag:noindex
X-PUBLISHED-TTL:PT1H
BEGIN:VTIMEZONE
TZID:America/Los_Angeles
BEGIN:DAYLIGHT
TZOFFSETFROM:-0800
TZOFFSETTO:-0700
TZNAME:PDT
DTSTART:20170312T100000
END:DAYLIGHT
BEGIN:STANDARD
TZOFFSETFROM:-0700
TZOFFSETTO:-0800
TZNAME:PST
DTSTART:20171105T090000
END:STANDARD
BEGIN:DAYLIGHT
TZOFFSETFROM:-0800
TZOFFSETTO:-0700
TZNAME:PDT
DTSTART:20180311T100000
END:DAYLIGHT
BEGIN:STANDARD
TZOFFSETFROM:-0700
TZOFFSETTO:-0800
TZNAME:PST
DTSTART:20181104T090000
END:STANDARD
BEGIN:DAYLIGHT
TZOFFSETFROM:-0800
TZOFFSETTO:-0700
TZNAME:PDT
DTSTART:20190310T100000
END:DAYLIGHT
BEGIN:STANDARD
TZOFFSETFROM:-0700
TZOFFSETTO:-0800
TZNAME:PST
DTSTART:20191103T090000
END:STANDARD
END:VTIMEZONE
BEGIN:VEVENT
DTSTART;TZID=America/Los_Angeles:20181009T110000
DTEND;TZID=America/Los_Angeles:20181009T140000
DTSTAMP:20260425T184315
CREATED:20181003T235730Z
LAST-MODIFIED:20181003T235805Z
UID:10000050-1539082800-1539093600@exceptionalconnections.com
SUMMARY:Networking Luncheon with Brian Trendler
DESCRIPTION:We are excited Brian Trendler will be the Spotlight speaker at our upcoming Tuesday\, October 9th Exceptional Connection Networking Luncheon at The Pizza Coop & Ale House in Woodinville. \nBrian Trendler is well known as the “funny-guy” and actually takes being humorous quite seriously. While there may not be a degree for such expertise\, he’s well-versed in helping business owners\, sales teams\, authors\, public speaker\, and more to find their own mix of humor to become better\, more confident and more motivated. His quick-wit\, charm\, and command of any stage makes him an experience to watch\, and a fantastic person to learn from. \nThrough LAF Tech\, his clients not only get to know their own skillsets\, but also realize that often they’re already going many of the methods unintentionally. The focus\, the practice\, the delivery in not only the spoken word\, but gestures\, body movement\, visuals and space usage is key to becoming the very best speaker one can be! LAF Tech’s motto is “Laugh\, Listen\, Learn\, Try”; Audience members will experience not only the opportunity to try a technique or two\, but also leave inspired with the realization that they can actually do it! LAF Tech has been showcased on the local NBC affiliate King 5 TV’s Morning News Show\, 97.3’s “What’s Ringing Rachel’s Bell” excerpt on the Ron & Don Show\, and multiple Podcasts. \nIn Brian’s 20 minute talk\, he will share: “Find your Funny: Why using Humor is Good Business Sense”\n \nSound Familiar? Are you an entrepreneur that recognizes the power of humor? Do you find that your business\, your message\, or your employees aren’t getting the attention that’s rightly deserved? You could be missing the key thing that potential clients are looking for… Impact! When you use humor in your 1-2-1\, 1-2 many\, or presentations and speaking opportunities; you’re more likable\, memorable\, and ideally profitable! \n  \n\nREGISTER NOW\n\n  \nAt this powerful event you’ll learn: \n* A key best practice from our LAF Tech curriculum\, “The Six Methods of Humor™” \n* Learn how to apply easy and surprisingly simple techniques to leave them laughing and wanting more \n* Get a super-secret bonus enabling you to generate any speech\, anywhere\, in 5 min or less. \n  \n\nHere are all the Details: \nTopic: “Find your Funny: Why using Humor is Good Business Sense” \nDate: Tuesday\, October 9\, 2018 \nTime: 11:00am – 2:00pm (includes extended mix & mingle networking before and after event) \nLocation: \nThe Pizza Coop & Ale House\n13317 Northeast 175th Street\nWoodinville\, WA 98072 \n  \n\nThe Earlier You Register\, The More You Save! \n$97 – “SkillShop Special” rate – ends Friday\, August 17th at 9pm\n$127 – “Early Bird” rate – ends Friday\, September 21st at 9pm\n$147.00 – “It’s Not Too Late” rate – ends Friday\, October 12th at 9pm\n$167 – “Guarantee your Seat” rate ends Monday\, October 19th at 9pm\n$180 – “Pay at the Door” rate if event is not Sold Out
URL:https://exceptionalconnections.com/event/networking-luncheon-with-brian-trendler/
LOCATION:The Pizza Coop & Ale House\, 13317 NE 175th St\, Woodinville\, WA\, 98072\, United States
CATEGORIES:Networking Lunch - Woodinville
ATTACH;FMTTYPE=image/jpeg:https://exceptionalconnections.com/wp-content/uploads/2018/10/Events-004.jpg
ORGANIZER;CN="Cyndi ONeill-Dady":MAILTO:Cyndi@ExceptionalConnections.com
END:VEVENT
END:VCALENDAR